Workbook

Sheet input
A1: プロップDD管理シート — 入力
A2: 黄色のセルだけを書き換えてください。数式セル（白地）は触らないでください。
A3: 項目 | B3: 値 | C3: 説明
A4: 初期残高 (USD) | B4: 50000 | C4: 口座開設時の残高。評価フェーズの開始値。
A5: 最大DD額 (USD) | B5: 2000 | C5: 業者規約の最大ドローダウン額。%表記なら 初期残高×% で算出した額を入力。
A6: DD方式 | B6: EOD | C6: EOD / Static / Trailing のいずれか。右のセルはプルダウン。
A7: 1トレードのリスク額 (USD) | B7: 500 | C7: 1回のトレードで許容する最大損失額。残りトレード回数の計算に使用。
A8: 日次損失上限 (USD・無い場合は0) | B8: 1000 | C8: 業者に日次損失上限がある場合のみ入力。無ければ 0。
A11: DD方式の定義
A12: Static | B12: 失格ラインは 初期残高 − 最大DD額 で固定。残高が増えても下がらない（最も緩い）。
A13: EOD | B13: 毎日の終値ベースで失格ラインを更新。前日までの最高終値を基準にする（Daily EOD）。
A14: Trailing | B14: 日中の最高残高まで追従。含み益のピークからDD額を引いた水準が失格ライン（最も厳しい）。

Sheet daily
A1: 日次記録 — 1日1行。日付・当日損益・当日最高残高（任意）だけ入力
A2: 日付 | B2: 当日損益 | C2: 当日終了残高 | D2: 当日最高残高 (日中・任意) | E2: 前日までの 最高終値 | F2: 日中最高の 累積 | G2: 失格ライン | H2: 余力 (DDまで) | I2: 日次枠の 残り | J2: あと何回 トレード可 | K2: 判定
A3: 46322 | B3: -350 | C3: =IF($A3="","",input!$B$4+SUM($B$3:$B3)) -> 49650 | D3: 50400 | E3: =IF($A3="","",IF(ROW()=3,input!$B$4,MAX(input!$B$4,MAX($C$3:INDEX($C:$C,ROW()-1))))) -> 50000 | F3: =IF($A3="","",MAX($E3,IF(COUNT($D$3:$D3)=0,0,MAX($D$3:$D3)))) -> 50400 | G3: =IF($A3="","",IF(input!$B$6="Static",input!$B$4,IF(input!$B$6="Trailing",$F3,$E3))-input!$B$5) -> 48000 | H3: =IF($A3="","",$C3-$G3) -> 1650 | I3: =IF($A3="","",IF(input!$B$8=0,$H3,MAX(0,input!$B$8+$B3))) -> 650 | J3: =IF($A3="","",IF($H3<=0,0,INT(MIN($H3,$I3)/input!$B$7))) -> 1 | K3: =IF($A3="","",IF($C3<=$G3,"失格",IF($J3<=0,"停止","継続"))) -> 継続
C4: =IF($A4="","",input!$B$4+SUM($B$3:$B4)) | E4: =IF($A4="","",IF(ROW()=3,input!$B$4,MAX(input!$B$4,MAX($C$3:INDEX($C:$C,ROW()-1))))) | F4: =IF($A4="","",MAX($E4,IF(COUNT($D$3:$D4)=0,0,MAX($D$3:$D4)))) | G4: =IF($A4="","",IF(input!$B$6="Static",input!$B$4,IF(input!$B$6="Trailing",$F4,$E4))-input!$B$5) | H4: =IF($A4="","",$C4-$G4) | I4: =IF($A4="","",IF(input!$B$8=0,$H4,MAX(0,input!$B$8+$B4))) | J4: =IF($A4="","",IF($H4<=0,0,INT(MIN($H4,$I4)/input!$B$7))) | K4: =IF($A4="","",IF($C4<=$G4,"失格",IF($J4<=0,"停止","継続")))
C5: =IF($A5="","",input!$B$4+SUM($B$3:$B5)) | E5: =IF($A5="","",IF(ROW()=3,input!$B$4,MAX(input!$B$4,MAX($C$3:INDEX($C:$C,ROW()-1))))) | F5: =IF($A5="","",MAX($E5,IF(COUNT($D$3:$D5)=0,0,MAX($D$3:$D5)))) | G5: =IF($A5="","",IF(input!$B$6="Static",input!$B$4,IF(input!$B$6="Trailing",$F5,$E5))-input!$B$5) | H5: =IF($A5="","",$C5-$G5) | I5: =IF($A5="","",IF(input!$B$8=0,$H5,MAX(0,input!$B$8+$B5))) | J5: =IF($A5="","",IF($H5<=0,0,INT(MIN($H5,$I5)/input!$B$7))) | K5: =IF($A5="","",IF($C5<=$G5,"失格",IF($J5<=0,"停止","継続")))
C6: =IF($A6="","",input!$B$4+SUM($B$3:$B6)) | E6: =IF($A6="","",IF(ROW()=3,input!$B$4,MAX(input!$B$4,MAX($C$3:INDEX($C:$C,ROW()-1))))) | F6: =IF($A6="","",MAX($E6,IF(COUNT($D$3:$D6)=0,0,MAX($D$3:$D6)))) | G6: =IF($A6="","",IF(input!$B$6="Static",input!$B$4,IF(input!$B$6="Trailing",$F6,$E6))-input!$B$5) | H6: =IF($A6="","",$C6-$G6) | I6: =IF($A6="","",IF(input!$B$8=0,$H6,MAX(0,input!$B$8+$B6))) | J6: =IF($A6="","",IF($H6<=0,0,INT(MIN($H6,$I6)/input!$B$7))) | K6: =IF($A6="","",IF($C6<=$G6,"失格",IF($J6<=0,"停止","継続")))
C7: =IF($A7="","",input!$B$4+SUM($B$3:$B7)) | E7: =IF($A7="","",IF(ROW()=3,input!$B$4,MAX(input!$B$4,MAX($C$3:INDEX($C:$C,ROW()-1))))) | F7: =IF($A7="","",MAX($E7,IF(COUNT($D$3:$D7)=0,0,MAX($D$3:$D7)))) | G7: =IF($A7="","",IF(input!$B$6="Static",input!$B$4,IF(input!$B$6="Trailing",$F7,$E7))-input!$B$5) | H7: =IF($A7="","",$C7-$G7) | I7: =IF($A7="","",IF(input!$B$8=0,$H7,MAX(0,input!$B$8+$B7))) | J7: =IF($A7="","",IF($H7<=0,0,INT(MIN($H7,$I7)/input!$B$7))) | K7: =IF($A7="","",IF($C7<=$G7,"失格",IF($J7<=0,"停止","継続")))
C8: =IF($A8="","",input!$B$4+SUM($B$3:$B8)) | E8: =IF($A8="","",IF(ROW()=3,input!$B$4,MAX(input!$B$4,MAX($C$3:INDEX($C:$C,ROW()-1))))) | F8: =IF($A8="","",MAX($E8,IF(COUNT($D$3:$D8)=0,0,MAX($D$3:$D8)))) | G8: =IF($A8="","",IF(input!$B$6="Static",input!$B$4,IF(input!$B$6="Trailing",$F8,$E8))-input!$B$5) | H8: =IF($A8="","",$C8-$G8) | I8: =IF($A8="","",IF(input!$B$8=0,$H8,MAX(0,input!$B$8+$B8))) | J8: =IF($A8="","",IF($H8<=0,0,INT(MIN($H8,$I8)/input!$B$7))) | K8: =IF($A8="","",IF($C8<=$G8,"失格",IF($J8<=0,"停止","継続")))
C9: =IF($A9="","",input!$B$4+SUM($B$3:$B9)) | E9: =IF($A9="","",IF(ROW()=3,input!$B$4,MAX(input!$B$4,MAX($C$3:INDEX($C:$C,ROW()-1))))) | F9: =IF($A9="","",MAX($E9,IF(COUNT($D$3:$D9)=0,0,MAX($D$3:$D9)))) | G9: =IF($A9="","",IF(input!$B$6="Static",input!$B$4,IF(input!$B$6="Trailing",$F9,$E9))-input!$B$5) | H9: =IF($A9="","",$C9-$G9) | I9: =IF($A9="","",IF(input!$B$8=0,$H9,MAX(0,input!$B$8+$B9))) | J9: =IF($A9="","",IF($H9<=0,0,INT(MIN($H9,$I9)/input!$B$7))) | K9: =IF($A9="","",IF($C9<=$G9,"失格",IF($J9<=0,"停止","継続")))
C10: =IF($A10="","",input!$B$4+SUM($B$3:$B10)) | E10: =IF($A10="","",IF(ROW()=3,input!$B$4,MAX(input!$B$4,MAX($C$3:INDEX($C:$C,ROW()-1))))) | F10: =IF($A10="","",MAX($E10,IF(COUNT($D$3:$D10)=0,0,MAX($D$3:$D10)))) | G10: =IF($A10="","",IF(input!$B$6="Static",input!$B$4,IF(input!$B$6="Trailing",$F10,$E10))-input!$B$5) | H10: =IF($A10="","",$C10-$G10) | I10: =IF($A10="","",IF(input!$B$8=0,$H10,MAX(0,input!$B$8+$B10))) | J10: =IF($A10="","",IF($H10<=0,0,INT(MIN($H10,$I10)/input!$B$7))) | K10: =IF($A10="","",IF($C10<=$G10,"失格",IF($J10<=0,"停止","継続")))
C11: =IF($A11="","",input!$B$4+SUM($B$3:$B11)) | E11: =IF($A11="","",IF(ROW()=3,input!$B$4,MAX(input!$B$4,MAX($C$3:INDEX($C:$C,ROW()-1))))) | F11: =IF($A11="","",MAX($E11,IF(COUNT($D$3:$D11)=0,0,MAX($D$3:$D11)))) | G11: =IF($A11="","",IF(input!$B$6="Static",input!$B$4,IF(input!$B$6="Trailing",$F11,$E11))-input!$B$5) | H11: =IF($A11="","",$C11-$G11) | I11: =IF($A11="","",IF(input!$B$8=0,$H11,MAX(0,input!$B$8+$B11))) | J11: =IF($A11="","",IF($H11<=0,0,INT(MIN($H11,$I11)/input!$B$7))) | K11: =IF($A11="","",IF($C11<=$G11,"失格",IF($J11<=0,"停止","継続")))
C12: =IF($A12="","",input!$B$4+SUM($B$3:$B12)) | E12: =IF($A12="","",IF(ROW()=3,input!$B$4,MAX(input!$B$4,MAX($C$3:INDEX($C:$C,ROW()-1))))) | F12: =IF($A12="","",MAX($E12,IF(COUNT($D$3:$D12)=0,0,MAX($D$3:$D12)))) | G12: =IF($A12="","",IF(input!$B$6="Static",input!$B$4,IF(input!$B$6="Trailing",$F12,$E12))-input!$B$5) | H12: =IF($A12="","",$C12-$G12) | I12: =IF($A12="","",IF(input!$B$8=0,$H12,MAX(0,input!$B$8+$B12))) | J12: =IF($A12="","",IF($H12<=0,0,INT(MIN($H12,$I12)/input!$B$7))) | K12: =IF($A12="","",IF($C12<=$G12,"失格",IF($J12<=0,"停止","継続")))
C13: =IF($A13="","",input!$B$4+SUM($B$3:$B13)) | E13: =IF($A13="","",IF(ROW()=3,input!$B$4,MAX(input!$B$4,MAX($C$3:INDEX($C:$C,ROW()-1))))) | F13: =IF($A13="","",MAX($E13,IF(COUNT($D$3:$D13)=0,0,MAX($D$3:$D13)))) | G13: =IF($A13="","",IF(input!$B$6="Static",input!$B$4,IF(input!$B$6="Trailing",$F13,$E13))-input!$B$5) | H13: =IF($A13="","",$C13-$G13) | I13: =IF($A13="","",IF(input!$B$8=0,$H13,MAX(0,input!$B$8+$B13))) | J13: =IF($A13="","",IF($H13<=0,0,INT(MIN($H13,$I13)/input!$B$7))) | K13: =IF($A13="","",IF($C13<=$G13,"失格",IF($J13<=0,"停止","継続")))
C14: =IF($A14="","",input!$B$4+SUM($B$3:$B14)) | E14: =IF($A14="","",IF(ROW()=3,input!$B$4,MAX(input!$B$4,MAX($C$3:INDEX($C:$C,ROW()-1))))) | F14: =IF($A14="","",MAX($E14,IF(COUNT($D$3:$D14)=0,0,MAX($D$3:$D14)))) | G14: =IF($A14="","",IF(input!$B$6="Static",input!$B$4,IF(input!$B$6="Trailing",$F14,$E14))-input!$B$5) | H14: =IF($A14="","",$C14-$G14) | I14: =IF($A14="","",IF(input!$B$8=0,$H14,MAX(0,input!$B$8+$B14))) | J14: =IF($A14="","",IF($H14<=0,0,INT(MIN($H14,$I14)/input!$B$7))) | K14: =IF($A14="","",IF($C14<=$G14,"失格",IF($J14<=0,"停止","継続")))
C15: =IF($A15="","",input!$B$4+SUM($B$3:$B15)) | E15: =IF($A15="","",IF(ROW()=3,input!$B$4,MAX(input!$B$4,MAX($C$3:INDEX($C:$C,ROW()-1))))) | F15: =IF($A15="","",MAX($E15,IF(COUNT($D$3:$D15)=0,0,MAX($D$3:$D15)))) | G15: =IF($A15="","",IF(input!$B$6="Static",input!$B$4,IF(input!$B$6="Trailing",$F15,$E15))-input!$B$5) | H15: =IF($A15="","",$C15-$G15) | I15: =IF($A15="","",IF(input!$B$8=0,$H15,MAX(0,input!$B$8+$B15))) | J15: =IF($A15="","",IF($H15<=0,0,INT(MIN($H15,$I15)/input!$B$7))) | K15: =IF($A15="","",IF($C15<=$G15,"失格",IF($J15<=0,"停止","継続")))
... C201: =IF($A201="","",input!$B$4+SUM($B$3:$B201)) | E201: =IF($A201="","",IF(ROW()=3,input!$B$4,MAX(input!$B$4,MAX($C$3:INDEX($C:$C,ROW()-1))))) | F201: =IF($A201="","",MAX($E201,IF(COUNT($D$3:$D201)=0,0,MAX($D$3:$D201)))) | G201: =IF($A201="","",IF(input!$B$6="Static",input!$B$4,IF(input!$B$6="Trailing",$F201,$E201))-input!$B$5) | H201: =IF($A201="","",$C201-$G201) | I201: =IF($A201="","",IF(input!$B$8=0,$H201,MAX(0,input!$B$8+$B201))) | J201: =IF($A201="","",IF($H201<=0,0,INT(MIN($H201,$I201)/input!$B$7))) | K201: =IF($A201="","",IF($C201<=$G201,"失格",IF($J201<=0,"停止","継続")))
C203: 3行目は記入例です（実際に使う際は上書きしてください）。日付が入った行だけが計算されます。

Sheet calc
A1: 現在の状況 — 入力不要（自動計算）
A2: =IF(COUNT(daily!$A$3:$A$1000)=0,"日次記録に日付を入れると、ここに最新の状況が表示されます。","最新の記録行を反映しています。") -> 最新の記録行を反映しています。
A3: 指標 | B3: 値 | C3: 補足
A4: 現在の残高 | B4: =IF(COUNT(daily!$A$3:$A$1000)=0,input!$B$4,INDEX(daily!$C$3:$C$1000,COUNT(daily!$A$3:$A$1000))) -> 49650 | C4: 直近の日次記録の終了残高
A5: 失格ライン | B5: =IF(COUNT(daily!$A$3:$A$1000)=0,input!$B$4-input!$B$5,INDEX(daily!$G$3:$G$1000,COUNT(daily!$A$3:$A$1000))) -> 48000 | C5: この水準を終値で下回ると失格
A6: 余力（DDまで） | B6: =B4-B5 -> 1650 | C6: 失格ラインまで、あと何ドル損失できるか
A7: あと何回トレードできるか | B7: =IF(B6<=0,0,INT(B6/input!$B$7)) -> 3 | C7: リスク額で割った回数（余力ベース）
A8: 当日枠の残り | B8: =IF(COUNT(daily!$A$3:$A$1000)=0,MIN(B6,input!$B$8),MIN(B6,INDEX(daily!$I$3:$I$1000,COUNT(daily!$A$3:$A$1000)))) -> 650 | C8: 余力と日次上限の小さいほう
A9: 累積損益 | B9: =B4-input!$B$4 -> -350 | C9: 初期残高からの損益
A10: 累積損益率 | B10: =IF(input!$B$4=0,0,B9/input!$B$4) -> -0.007 | C10: 初期残高に対する比率
A11: DD方式 | B11: =input!$B$6 -> EOD | C11: 現在の設定
A12: 判定 | B12: =IF(COUNT(daily!$A$3:$A$1000)=0,"—",IF(B4<=B5,"失格",IF(B6<=0,"停止","継続"))) -> 継続 | C12: 判定結果
A15: 損益シミュレーション
A16: 「このあと何ドル負けたら失格か」を確認するための試算です。黄色セルに想定損益を入れてください。
A18: 想定損益 (USD) | B18: -800 | C18: これから発生すると仮定する損益（マイナスで入力）
A19: 試算後の残高 | B19: =B4+B18 -> 48850 | C19: 現在の残高＋想定損益
A20: 試算後の余力 | B20: =B19-B5 -> 850 | C20: 試算後の残高−失格ライン
A21: 試算後の判定 | B21: =IF(B19<=B5,"失格",IF(B20<=0,"停止","継続")) -> 継続 | C21: 試算結果の判定

Sheet guide
A1: 使い方と計算式
A3: 1. 使い方
A4: 手順1 | B4: inputシートの黄色セル5つを、自分の口座に合わせて書き換える。
A5: 手順2 | B5: dailyシートに1日1行で「日付」「当日損益」「当日最高残高（任意）」を記入する。
A6: 手順3 | B6: 残りはすべて自動計算。calcシートで「余力」と「あと何回トレードできるか」を確認する。
A7: 手順4 | B7: レコードを消すときは、行ごと削除する（数式行を残さない）。
A9: 2. 各シートの役割
A10: input | B10: 口座のルール（初期残高・最大DD額・DD方式・リスク額・日次上限）を入れる。
A11: daily | B11: 日次の損益を記録する。1行足すだけで失格ラインが更新される。
A12: calc | B12: 現在の余力と、損益シミュレーションを表示する。
A13: guide | B13: このシート。計算式の定義を確認する。
A15: 3. 計算式の定義
A16: 当日終了残高 | B16: 初期残高 ＋ その日までの累積損益
A17: 前日までの最高終値 | B17: MAX(初期残高, 前日までの各日終了残高)
A18: 日中最高の累積 | B18: MAX(前日までの最高終値, 当日までの各日最高残高)
A19: 失格ライン(Static) | B19: 初期残高 − 最大DD額（固定）
A20: 失格ライン(EOD) | B20: 前日までの最高終値 − 最大DD額（終値ベースで毎日更新）
A21: 失格ライン(Trailing) | B21: 日中最高の累積 − 最大DD額（含み益のピークまで追従）
A22: 余力 | B22: 当日終了残高 − 失格ライン
A23: 日次枠の残り | B23: 日次損失上限 ＋ 当日損益（上限が0なら余力をそのまま使用）
A24: あと何回トレード可 | B24: INT( MIN(余力, 日次枠の残り) ÷ リスク額 )
A25: 判定 | B25: 終了残高が失格ライン以下なら「失格」、回数0なら「停止」、それ以外は「継続」
A27: 4. 注意
A28: 注意1 | B28: 失格判定は「終値ベース」で計算しています。Trailingの場合、日中の含み益ピークは当日最高残高セルに入力しないと反映されません。
A29: 注意2 | B29: 手数料・スプレッドは当日損益に含めて入力してください（純損益で記録する）。
A30: 注意3 | B30: 業者の規約が最優先です。判定が規約と異なる場合は、規約の定義に合わせてinputシートの値を調整してください。
A31: 注意4 | B31: このシートは記録と計算の補助であり、業者の判定を保証するものではありません。
